BEGIN:VCALENDAR
VERSION:2.0
PRODID:-//Squarespace Inc/Squarespace 6//v6//EN
BEGIN:VEVENT
UID:5813e90be6f2e15be2f5adcf@squarespace.com
DTSTAMP:20161102T114759Z
DTSTART:20161109T163000Z
DTEND:20161109T183000Z
SUMMARY:Meet The Designer: Jenny Huston of Edge Only 
GEO:54.270097;-8.473507
LOCATION:Cait + I\, Market Cross\, Sligo\, IReland
END:VEVENT
END:VCALENDAR
