BEGIN:VCALENDAR
VERSION:2.0
PRODID:-//Squarespace Inc/Squarespace 6//v6//EN
BEGIN:VEVENT
UID:5818bffa725e2564c2d3dc64@squarespace.com
DTSTAMP:20161108T133210Z
DTSTART:20161108T180000Z
DTEND:20161108T200000Z
SUMMARY:Film: Maker The Movie 
GEO:54.276271;-8.461639
LOCATION:A006\, IT Sligo\, Ash Lane\, Sligo
END:VEVENT
END:VCALENDAR
