BEGIN:VCALENDAR
VERSION:2.0
PRODID:-//Squarespace Inc/Squarespace 6//v6//EN
BEGIN:VEVENT
UID:580e956ecd0f6878e6bb4762@squarespace.com
DTSTAMP:20161103T125302Z
DTSTART:20161109T101500Z
DTEND:20161109T120000Z
SUMMARY:Creative Entrepreneurship: Grow a design-led business
GEO:54.276851;-8.46458
LOCATION:IT Sligo\, Ash Lane\, Sligo\, Sligo
END:VEVENT
END:VCALENDAR
