BEGIN:VCALENDAR
VERSION:2.0
PRODID:-//Squarespace Inc/Squarespace 6//v6//EN
BEGIN:VEVENT
UID:580e90d9f7e0abd1f4a6dd27@squarespace.com
DTSTAMP:20161102T085918Z
DTSTART:20161108T100000Z
DTEND:20161108T170000Z
SUMMARY:Thrive School Vision Intensive
GEO:54.272275;-8.475043
LOCATION:The Glasshouse Hotel\, Sligo\, County Sligo\, Ireland
END:VEVENT
END:VCALENDAR
