BEGIN:VCALENDAR
VERSION:2.0
PRODID:-//Squarespace Inc/Squarespace 6//v6//EN
BEGIN:VEVENT
UID:580e96631b631bede2b40a3f@squarespace.com
DTSTAMP:20161028T213421Z
DTSTART:20161110T210000Z
DTEND:20161110T230000Z
SUMMARY:Spray Paint + Beats 
GEO:54.271286;-8.475485
LOCATION:Tricky's McGarrigles\, 13 O'Connell St\, Sligo\, County Sligo\, F9
 1 EY76\, Ireland
END:VEVENT
END:VCALENDAR
