BEGIN:VCALENDAR
VERSION:2.0
PRODID:-//Squarespace Inc/Squarespace 6//v6//EN
BEGIN:VEVENT
UID:580e9d87ebbd1a629b929ea9@squarespace.com
DTSTAMP:20161102T115100Z
DTSTART:20161109T180000Z
DTEND:20161109T200000Z
SUMMARY:Film: Design Distruptors 
GEO:54.276851;-8.46458
LOCATION:IT Sligo\, Ash Lane\, Sligo\, Ireland
END:VEVENT
END:VCALENDAR
