BEGIN:VCALENDAR
VERSION:2.0
PRODID:-//Squarespace Inc/Squarespace 6//v6//EN
BEGIN:VEVENT
UID:580e9cf03e00bed107665a3f@squarespace.com
DTSTAMP:20161028T220300Z
DTSTART:20161113T200000Z
DTEND:20161113T210000Z
SUMMARY:Design Talk: Frank Conway
GEO:54.268451;-8.4768
LOCATION:Hawk's Well Theatre\, Temple Street\, Sligo\, County Sligo\, Irela
 nd
END:VEVENT
END:VCALENDAR
