BEGIN:VCALENDAR
VERSION:2.0
PRODID:-//Squarespace Inc/Squarespace 6//v6//EN
BEGIN:VEVENT
UID:580e8ff02994caaa1f94698e@squarespace.com
DTSTAMP:20161109T004226Z
DTSTART:20161112T100000Z
DTEND:20161112T140000Z
SUMMARY:Workshop: The Art of Screen Printing (Morning)
GEO:54.274056;-8.465068
LOCATION:The Model\, The Mall\, Sligo\, Ireland
END:VEVENT
END:VCALENDAR
