BEGIN:VCALENDAR
VERSION:2.0
PRODID:-//Squarespace Inc/Squarespace 6//v6//EN
BEGIN:VEVENT
UID:58190b90c534a52382d72b3a@squarespace.com
DTSTAMP:20161102T091703Z
DTSTART:20161110T100000Z
DTEND:20161110T140000Z
SUMMARY:Open Workshop: Meet The Woodturner Matt Jones
GEO:54.125552;-8.400695
LOCATION:The Outhouses\, Ardkeeran\, Riverstown\, Co. Sligo
END:VEVENT
END:VCALENDAR
