BEGIN:VCALENDAR
VERSION:2.0
PRODID:-//Squarespace Inc/Squarespace 6//v6//EN
BEGIN:VEVENT
UID:5818b907d2b857d06f522c8f@squarespace.com
DTSTAMP:20161102T202227Z
DTSTART:20161110T180000Z
DTEND:20161110T190000Z
SUMMARY:Meet The Designer: Martina Hamilton
GEO:54.270496;-8.472707
LOCATION:The Cat and The Moon\, Castle Street\, Sligo\, Ireland
END:VEVENT
END:VCALENDAR
