BEGIN:VCALENDAR
VERSION:2.0
PRODID:-//Squarespace Inc/Squarespace 6//v6//EN
BEGIN:VEVENT
UID:5813d078b3db2b4001e23884@squarespace.com
DTSTAMP:20161101T172935Z
DTSTART:20161110T170000Z
DTEND:20161110T183000Z
SUMMARY:Meet the Designer: Fiona Mulholland
GEO:54.270097;-8.473507
LOCATION:Cait & I\, Market Cross\, Sligo\, Ireland
END:VEVENT
END:VCALENDAR
