BEGIN:VCALENDAR
VERSION:2.0
PRODID:-//Squarespace Inc/Squarespace 6//v6//EN
BEGIN:VEVENT
UID:5813d1f715d5dbcebaba6d3f@squarespace.com
DTSTAMP:20161102T200823Z
DTSTART:20161107T153000Z
DTEND:20161107T163000Z
SUMMARY:Design Talk: Understand Design Thinking in 60 Minutes
GEO:54.27661;-8.476089
LOCATION:Glass House Hotel\, Swan Point\, Sligo\, Ireland
END:VEVENT
END:VCALENDAR
