BEGIN:VCALENDAR
VERSION:2.0
PRODID:-//Squarespace Inc/Squarespace 6//v6//EN
BEGIN:VEVENT
UID:5813d5a746c3c4f1cb138e44@squarespace.com
DTSTAMP:20161028T225521Z
DTSTART:20161110T200000Z
DTEND:20161110T210000Z
SUMMARY:Design Social 
END:VEVENT
END:VCALENDAR
