BEGIN:VCALENDAR
VERSION:2.0
PRODID:-//Squarespace Inc/Squarespace 6//v6//EN
BEGIN:VEVENT
UID:5813d4446a496367e34b6636@squarespace.com
DTSTAMP:20161028T224719Z
DTSTART:20161112T150000Z
DTEND:20161112T190000Z
SUMMARY:Workshop: The Art of Screen Printing (Afternoon)
GEO:54.274056;-8.465068
LOCATION:The Model\, The Mall\, Sligo\, Ireland
END:VEVENT
END:VCALENDAR
