BEGIN:VCALENDAR
VERSION:2.0
PRODID:-//Squarespace Inc/Squarespace 6//v6//EN
BEGIN:VEVENT
UID:5813e6ee9f7456c337707fac@squarespace.com
DTSTAMP:20161107T111848Z
DTSTART:20161107T140000Z
DTEND:20161107T151500Z
SUMMARY:Workshop: Using Instagram in Your Creative Business
GEO:54.27661;-8.476089
LOCATION:The Glasshouse Hotel\, Swanpoint\, Sligo\, Sligo
END:VEVENT
END:VCALENDAR
