BEGIN:VCALENDAR
VERSION:2.0
PRODID:-//Squarespace Inc/Squarespace 6//v6//EN
BEGIN:VEVENT
UID:5813e4e8d1758e68df630676@squarespace.com
DTSTAMP:20161108T134348Z
DTSTART:20161109T131000Z
DTEND:20161109T141000Z
SUMMARY:Digital Delight: How Designer-Makers Can Work with Bloggers
GEO:54.27661;-8.476089
LOCATION:The View Bar\, The Glasshouse Hotel\,\, Swan Point\, Sligo
END:VEVENT
END:VCALENDAR
