BEGIN:VCALENDAR
VERSION:2.0
PRODID:-//Squarespace Inc/Squarespace 6//v6//EN
BEGIN:VEVENT
UID:5813c23cd482e994ffb32c4e@squarespace.com
DTSTAMP:20161109T011319Z
DTSTART:20161111T183000Z
DTEND:20161111T200000Z
SUMMARY:Workshop: Photoshop For Business
END:VEVENT
END:VCALENDAR
